Workbook

Sheet BP
B1: COMPANHIA DOCAS DO ESTADO DO RIO GRANDE DO NORTE
B2: CNPJ: 34.040.345/0001-90
B3: BALANÇOS PATRIMONIAIS EM 31 DE MARÇO
B4: (Em milhares de reais - R$)
B7: Ativo | D7: Nota | G7: 46112 | I7: 46022 | N7: Passivo e Patrimônio Líquido | P7: Nota | S7: 46112 | U7: 46022
B9: Circulante | N9: Circulante
B10: Caixa e Equivalentes de Caixa | D10: 4 | G10: 225413 | I10: 221087 | N10: Fornecedores e Contas a Pagar | P10: 11 | S10: 2044 | U10: 2171
B11: Contas a Receber | D11: 5 | G11: 40291 | I11: 41007 | N11: Obrigações Trabalhistas | P11: 12 | S11: 3324 | U11: 3149
B12: Estoques | D12: 6 | G12: 2102 | I12: 1697 | N12: Obrigações Fiscais e Previdenciárias | P12: 13 | S12: 21170 | U12: 27976
B13: Tributos a Compensar | D13: 7 | G13: 9634 | I13: 10382 | N13: Outros Passivos | P13: 14 | S13: 2408 | U13: 2664
B14: Despesas Antecipadas | G14: 3 | I14: 11 | N14: Receitas Antecipadas | P14: 15 | S14: 80466 | U14: 81296
B15: Outros Créditos | D15: 8 | G15: 2152 | I15: 1830
B17: Total do Ativo Circulante | G17: =G10+G11+G12+G13+G14+G15 -> 279595 | I17: =I10+I11+I12+I13+I14+I15 -> 276014 | N17: Total do Passivo Circulante | S17: =SUM(S10:S14) -> 109412 | U17: =SUM(U10:U14) -> 117256
L18: 112.03.1.04.0002. -0 | M18: 1117151
B19: Não Circulante | M19: 5819666.7 | N19: Não Circulante
B20: Realizável a Longo Prazo | G20: =SUM(G21:G23) -> 135636 | I20: =SUM(I21:I23) -> 132308 | N20: Obrigações Fiscais e Previdenciárias | P20: 13 | S20: 90945 | U20: 92532
B21: Contas a Receber | D21: 5 | G21: 107950 | I21: 106700 | N21: Provisão para Contingências | P21: 16 | S21: 31031 | U21: 35017
B22: Tributos a Compensar | D22: 7 | G22: 4742 | I22: 4742 | N22: Convênios | P22: 17 | S22: 5433 | U22: 5433
B23: Depósitos e Bloqueios Judiciais e Contratuais | D23: 9 | G23: 22944 | I23: 20866 | N23: Créditos para Aumento de Capital | P23: 19.a | S23: 5347 | U23: 5194
B24: Investimentos | G24: 30 | I24: 30 | N24: Receitas Antecipadas | P24: 15 | S24: 145727 | U24: 145882
B25: Imobilizado Líquido | D25: 10 | G25: 175145 | I25: 175729
B26: Intangível | G26: 0 | I26: 9 | N26: Total do Passivo Não Circulante | S26: =SUM(S20:S24) -> 278483 | U26: =SUM(U20:U24) -> 284058
N28: Patrimônio Líquido
N29: Capital Social | P29: 18 | S29: 490932 | U29: 490932
N30: Ajustes de Avaliação Patrimonial | P30: 21 | S30: 53634 | U30: 53447
N31: Adiantamentos para Futuro Aumento de Capital | P31: 19.b | S31: 88013 | U31: 88013
N32: Prejuízos Acumulados | P32: 20 | S32: -430067 | U32: -449616
B34: Total do Ativo Não Circulante | G34: =G20+G24+G25+G26 -> 310811 | I34: =I20+I24+I25+I26 -> 308076 | N34: Total do Patrimônio Líquido | S34: =SUM(S29:S32)-1 -> 202511 | U34: =SUM(U29:U32) -> 182776
B36: Total do Ativo | G36: =G34+G17 -> 590406 | I36: =I34+I17 -> 584090 | N36: Total do Passivo e Patrimônio Líquido | S36: =S17+S26+S34 -> 590406 | U36: =U17+U26+U34 -> 584090
B37: As notas explicativas são parte integrante das demonstrações financeiras. | N37: As notas explicativas são parte integrante das demonstrações financeiras.
S38: =G36-S36 -> 0 | U38: =I36-U36 -> 0

Sheet DRE
B1: COMPANHIA DOCAS DO ESTADO DO RIO GRANDE DO NORTE
B2: CNPJ: 34.040.345/0001-90
B3: DEMONSTRAÇÕES DE RESULTADO EM 31 DE MARÇO
B4: (Em milhares de reais - R$, exceto o lucro por ação)
B6: Descrição | D6: Nota | F6: 46112 | H6: 45747
B10: Receita Líquida | D10: 22 | F10: 25039 | H10: 30305
B11: Custos operacionais | D11: 23 | F11: -11009 | H11: -11260
B13: Lucro Bruto | F13: =F10+F11 -> 14030 | H13: =H10+H11 -> 19045
B15: (Despesas)/Receitas operacionais | F15: =SUM(F16:F21) -> 3763 | H15: =SUM(H16:H21) -> -10616
B16: Despesas Administrativas e Gerais | D16: 24 | F16: -10848 | H16: -10391
B17: Despesas com Provisão de Perdas Estimadas Sobre Créditos | D17: 25 | F17: -1396 | H17: 11
B18: Despesas Tributárias | F18: -408 | H18: -449
B19: (Provisões)/Reversões para Passivos Contingentes | D19: 26 | F19: 3986 | H19: -138
B20: (Perdas)/Reversões pela Não Recuperabilidade de Ativos | F20: 0 | H20: 0
B21: Outras (Despesas)/Receitas operacionais | D21: 27 | F21: 12429 | H21: 351
B23: Lucro/(Prejuízo) antes das Receitas e Despesas Financeiras | F23: =F13+F15 -> 17793 | H23: =H13+H15 -> 8429
B25: Receitas Financeiras | D25: 28 | F25: 7507 | H25: 4177
B26: Despesas Financeiras | D26: 28 | F26: -5752 | H26: -19941
B28: Lucro/(Prejuízo) antes dos Tributos | F28: =F23+F25+F26 -> 19548 | H28: =H23+H25+H26 -> -7335
B30: IRPJ e CSLL | F30: 0 | H30: 0
B32: Lucro/(Prejuízo) Líquido do Período | D32: 20.b | F32: =F28+F30 -> 19548 | H32: =H28+H30 -> -7335
B33: Lucro/(Prejuízo) Líquido por Ação (em R$) | F33: =(F32*1000)/181197364435 -> 0.00010788236 | H33: =(H32*1000)/181197364435 -> -4.0480721e-05
B34: As notas explicativas são parte integrante das demonstrações financeiras.

Sheet DRA
B1: COMPANHIA DOCAS DO ESTADO DO RIO GRANDE DO NORTE
B2: CNPJ: 34.040.345/0001-90
B3: DEMONSTRAÇÕES DE RESULTADO ABRANGENTE EM 31 DE MARÇO
B4: (Em milhares de reais - R$)
B6: Descrição | D6: Nota | F6: 46112 | H6: 45747
B9: Resultado do Período | F9: =DRE!F32 -> 19548 | H9: =DRE!H32 -> -7335
B10: Outros Resultados Abrangentes
B11: Ganhos/Perdas Atuariais em planos de pensão | D11: 21 | F11: =(701455-514727)/1000 -> 186.728 | H11: =(3454034)/1000 -> 3454.034
B13: Resultado Abrangente Consolidado do Período | F13: =F9+F10+F11 -> 19734.728 | H13: =H9+H10+H11 -> -3880.966
B14: As notas explicativas são parte integrante das demonstrações financeiras

Sheet DMPL
B1: COMPANHIA DOCAS DO ESTADO DO RIO GRANDE DO NORTE
B2: CNPJ: 34.040.345/0001-90
B3: DEMONSTRAÇÕES DAS MUTAÇÕES DO PATRIMÔNIO LÍQUIDO EM 31 DE MARÇO
B4: (Em milhares de reais - R$)
B6: Descrição | D6: Nota | F6: Capital Social (Nota 18) | H6: Adiantamentos para Aumento de Capital (Nota 19.b) | J6: Ajustes de Avaliação Patrimonial (Nota 21) | L6: Lucros/ (Prejuízos) Acumulados (Nota 20.b) | N6: Total do Patrimônio Líquido
B9: Em 31 de dezembro de 2024 | F9: 432843 | G9: 0 | H9: 76435 | J9: 30053 | L9: -973637 | N9: =SUM(F9:L9)+1 -> -434305
B10: Ajustes de Exercícios Anteriores | D10: 20.a | L10: -746 | N10: =SUM(F10:L10) -> -746
B11: Adiantamentos para Futuro Aumento de Capital | D11: 19.b | N11: =SUM(F11:L11) -> 0
B12: Ajustes de Avaliação Patrimonial | D12: 21 | J12: 3454 | N12: =SUM(F12:L12) -> 3454
B13: Lucro/Prejuízo Líquido do Período | D13: 20.b | L13: -7335 | N13: =SUM(F13:L13) -> -7335
B14: Em 31 de março de 2025 | F14: =SUM(F9:F13) -> 432843 | H14: =SUM(H9:H13) -> 76435 | J14: =SUM(J9:J13) -> 33507 | L14: =SUM(L9:L13) -> -981718 | N14: =SUM(N9:N13) -> -438932
B15: Mutações do Período | F15: =F14-F9 -> 0 | H15: =H14-H9 -> 0 | J15: =J14-J9 -> 3454 | L15: =L14-L9 -> -8081 | N15: =N14-N9 -> -4627
B17: Em 31 de dezembro de 2025 | F17: 490932 | H17: 88013 | J17: 53447 | L17: -449616 | N17: =SUM(F17:L17) -> 182776
B18: Ajustes de Exercícios Anteriores | D18: 20.a | N18: =SUM(F18:L18) -> 0
B19: Adiantamentos para Futuro Aumento de Capital | D19: 19.b | N19: =SUM(F19:L19) -> 0
B20: Ajustes de Avaliação Patrimonial | D20: 21 | J20: 187 | N20: =SUM(F20:L20) -> 187
B21: Lucro/Prejuízo Líquido do Período | D21: 20.b | L21: 19548 | N21: =SUM(F21:L21) -> 19548
B22: Em 31 de março de 2026 | F22: =SUM(F17:F21) -> 490932 | H22: =SUM(H17:H21) -> 88013 | J22: =SUM(J17:J21) -> 53634 | L22: =SUM(L17:L21) -> -430068 | N22: =SUM(N17:N21) -> 202511
B23: Mutações do Período | F23: =F22-F17 -> 0 | H23: =H22-H17 -> 0 | J23: =J22-J17 -> 187 | L23: =L22-L17 -> 19548 | N23: =N22-N17 -> 19735
B25: As notas explicativas são parte integrante das demonstrações financeiras

Sheet DFC
B1: COMPANHIA DOCAS DO ESTADO DO RIO GRANDE DO NORTE
B2: CNPJ: 34.040.345/0001-90
B3: DEMONSTRAÇÕES DOS FLUXOS DE CAIXA EM 31 DE MARÇO
B4: (Em milhares de reais - R$)
B6: Descrição | D6: Nota | F6: 46112 | H6: 45747
B8: Fluxos de Caixa das Atividades Operacionais
B9: Lucro/Prejuízo do Período | D9: 20.b | F9: 19548 | H9: -7335
B10: Ajustes do Lucro Líquido
B11: Depreciação e Amortização | D11: 10 | F11: 2861 | H11: 3202
B12: Perdas (Reversão) pela não Recuperabilidade de Ativos | D12: 10 | F12: 0 | H12: 0
B13: Ajustes de Avaliação Patrimonial | D13: 21 | F13: 186.61 | H13: 3454
B14: Ajustes de Exercícios Anteriores | D14: 20.a | F14: 0 | H14: -746
B15: Impostos Diferidos | F15: 0
B16: Provisões (Reversão) para Contingências Judiciais | D16: 26 | F16: -3986 | H16: 138
B17: Provisões (Reversão) para Perdas com Créditos Esperadas | D17: 25 | F17: 1396 | H17: -11
B18: Despesas de Atualização Monetária | D18: 28 | F18: 153 | H18: 10899
B19: Baixas de Imobilizado | D19: 10 | F19: 0 | H19: 0
B20: Redução (Aumento) de Ativos
B21: Contas a Receber | D21: =BP!D11 -> 5 | F21: -1930 | H21: -8256
B22: Estoques | D22: =BP!D12 -> 6 | F22: -405 | H22: 73
B23: Tributos a Compensar/Recuperar | D23: =BP!D13 -> 7 | F23: 748 | H23: -367
B24: Despesas Antecipadas | F24: 8 | H24: -157
B25: Outros Créditos | D25: =BP!D15 -> 8 | F25: -321.68 | H25: 1298
B26: Depósitos Judiciais | D26: 9 | F26: -2078 | H26: -672
B27: Aumento (Redução) de Passivos
B28: Fornecedores | D28: 11 | F28: -126.57 | H28: -142
B29: Obrigações Trabalhistas | D29: =BP!P11 -> 12 | F29: 175 | H29: 1267
B30: Obrigações Fiscais e Previdenciárias | D30: =BP!P12 -> 13 | F30: -8393.42 | H30: 4370
B31: Outras Obrigações | D31: 14 | F31: -256.34 | H31: 43
B32: Receitas Antecipadas | D32: 15 | F32: -985 | H32: 3358
B33: Contingências | D33: 16 | F33: -0.08 | H33: 0
B34: Caixa Gerado pelas Operações
B35: Imposto de Renda e Contribuição Social Pagos | F35: 0 | H35: 0
B37: Caixa Líquido Gerado pelas Atividades Operacionais | F37: =SUM(F9:F33) -> 6593.52 | H37: =SUM(H9:H33) -> 10416
B39: Fluxos de Caixa das Atividades de Investimento
B41: Juros sobre investimentos
B42: Devolução de investimentos
B43: Aquisições de Imobilizado | D43: 10 | F43: -2268 | H43: -274
B44: Aquisições do Intangível
B45: Caixa Líquido Aplicado nas Atividades de Investimento | F45: =SUM(F41:F44) -> -2268 | H45: =SUM(H41:H44) -> -274
...

Sheet DVA
B1: COMPANHIA DOCAS DO ESTADO DO RIO GRANDE DO NORTE
B2: CNPJ: 34.040.345/0001-90
B3: DEMONSTRAÇÕES DO VALOR ADICIONADO EM 31 DE MARÇO
B4: (Em milhares de reais - R$)
C6: Descrição | E6: Nota | G6: 46112 | I6: 45747
B8: 1 | C8: Receitas | G8: =SUM(G9:G11) -> 38626 | I8: =SUM(I9:I11) -> 33288
B9: 1.1 | C9: Vendas de Mercadoria, Produtos e Serviços | E9: 22 | G9: 27591 | I9: 32922
B10: 1.2 | C10: Provisão para Créditos de Liquidação Duvidosa | E10: 25 | G10: -1396 | I10: 11
B11: 1.3 | C11: Outras Receitas | E11: 27 | G11: 12431 | I11: 355
B13: 2 | C13: Insumos Adquiridos de Terceiros | G13: =SUM(G14:G17) -> -4277 | I13: =SUM(I14:I17) -> -7764
B14: 2.1 | C14: Custo dos Produtos, das Mercadorias e dos Serviços Vendidos | E14: 23/24 | G14: -4407 | I14: -3413
B15: 2.2 | C15: Materiais, Energia, Serviços de Terceiros e Outros | E15: 23/24 | G15: -3854 | I15: -4209
B16: 2.3 | C16: Perda / Recuperação de Valores Ativos | E16: 27 | G16: -2 | I16: -4
B17: 2.4 | C17: Provisões para Contingências (Reversão/Constituição) | E17: 26 | G17: 3986 | I17: -138
B19: 3 | C19: Valor Adicionado Bruto | G19: =G8+G13 -> 34349 | I19: =I8+I13 -> 25524
B21: 4 | C21: Retenções | G21: =G22 -> -2861 | I21: =I22 -> -3202
B22: 4.1 | C22: Depreciação e Amortização | E22: 23/24 | G22: -2861 | I22: -3202
B24: 5 | C24: Valor Adicionado Líquido | G24: =G19+G21 -> 31488 | I24: =I19+I21 -> 22322
B26: 6 | C26: Valor Adicionado Recebido em Transferência | G26: =G27 -> 7507 | I26: =I27 -> 4177
B27: 6.1 | C27: Receitas Financeiras | E27: 28 | G27: 7507 | I27: 4177
B29: 7 | C29: Valor Adicionado a Distribuir | G29: =G24+G26 -> 38995 | I29: =I24+I26 -> 26499
B31: 8 | C31: Valor Adicionado Distribuido | G31: =G32+G37+G42+G46 -> 38995 | I31: =I32+I37+I42+I46 -> 26499
B32: 8.1 | C32: Pessoal | G32: =SUM(G33:G35) -> 9544 | I32: =SUM(I33:I35) -> 9524
B33: 8.1.1 | C33: Remuneração Direta e Encargos Sociais | E33: 23/24 | G33: 5687 | I33: 6530
B34: 8.1.2 | C34: Benefícios | E34: 23/24 | G34: 2870 | I34: 2109
B35: 8.1.3 | C35: FGTS | E35: 23/24 | G35: 987 | I35: 885
B37: 8.2 | C37: Impostos, Taxas e Contribuições | G37: =SUM(G38:G40) -> 4151 | I37: =SUM(I38:I40) -> 4369
B38: 8.2.1 | C38: Federais | E38: 23/24 | G38: 4141 | I38: 4360
B39: 8.2.2 | C39: Estaduais | G39: 4 | I39: 4
B40: 8.2.3 | C40: Municipais | G40: 6 | I40: 5
B42: 8.3 | C42: Remuneração de Capitais de Terceiros | G42: =SUM(G43:G44) -> 5752 | I42: =SUM(I43:I44) -> 19941
B43: 8.3.1 | C43: Juros e Correção Monetária | E43: 28 | G43: 5752 | I43: 19941
B44: 8.3.2 | C44: Aluguéis | G44: 0 | I44: 0
B46: 8.4 | C46: Remuneração de Capitais Próprios | G46: =G47 -> 19548 | I46: =I47 -> -7335
B47: 8.4.1 | C47: Lucros Retidos / Prejuízo do Período | E47: 20.b | G47: 19548 | I47: -7335
B49: As notas explicativas são parte integrante das demonstrações financeiras
G50: =G29-G31 -> 0 | I50: =I29-I31 -> 0
